Workbook

Sheet Mediciones
A1: Hoja de mediciones · Obra ejemplo
A2: Una línea por elemento medido. Las deducciones (huecos) van con Uds en negativo. Deja en blanco las dimensiones que no aplican.
A4: Código | B4: Descripción (de Resumen) | C4: Ud | D4: Elemento / ubicación | E4: Uds | F4: Largo (m) | G4: Ancho (m) | H4: Alto (m) | I4: Parcial | J4: Dim. usadas | K4: Control
A5: 01.01 | B5: =IF(A5="","",IFERROR(INDEX(Resumen!$B:$B,MATCH(A5,Resumen!$A:$A,0)),"¿Código?")) | C5: =IF(A5="","",IFERROR(INDEX(Resumen!$C:$C,MATCH(A5,Resumen!$A:$A,0)),"")) | D5: Zapatas Z1 · eje A | E5: 4 | F5: 2 | G5: 2 | H5: 1 | I5: =IF(OR(A5="",COUNT(E5:H5)=0),"",ROUND(PRODUCT(E5:H5),3)) | J5: =IF(A5="","",COUNT(F5:H5)) | K5: =IF(A5="","",IF(J5=IF(C5="m3",3,IF(C5="m2",2,IF(C5="m",1,0))),"OK","Revisar dimensiones"))
A6: 01.01 | B6: =IF(A6="","",IFERROR(INDEX(Resumen!$B:$B,MATCH(A6,Resumen!$A:$A,0)),"¿Código?")) | C6: =IF(A6="","",IFERROR(INDEX(Resumen!$C:$C,MATCH(A6,Resumen!$A:$A,0)),"")) | D6: Zapatas Z2 · eje B | E6: 4 | F6: 2.4 | G6: 2.4 | H6: 1.1 | I6: =IF(OR(A6="",COUNT(E6:H6)=0),"",ROUND(PRODUCT(E6:H6),3)) | J6: =IF(A6="","",COUNT(F6:H6)) | K6: =IF(A6="","",IF(J6=IF(C6="m3",3,IF(C6="m2",2,IF(C6="m",1,0))),"OK","Revisar dimensiones"))
A7: 01.01 | B7: =IF(A7="","",IFERROR(INDEX(Resumen!$B:$B,MATCH(A7,Resumen!$A:$A,0)),"¿Código?")) | C7: =IF(A7="","",IFERROR(INDEX(Resumen!$C:$C,MATCH(A7,Resumen!$A:$A,0)),"")) | D7: Zanja riostra perimetral | E7: 1 | F7: 24 | G7: 0.6 | H7: 0.8 | I7: =IF(OR(A7="",COUNT(E7:H7)=0),"",ROUND(PRODUCT(E7:H7),3)) | J7: =IF(A7="","",COUNT(F7:H7)) | K7: =IF(A7="","",IF(J7=IF(C7="m3",3,IF(C7="m2",2,IF(C7="m",1,0))),"OK","Revisar dimensiones"))
A8: 02.01 | B8: =IF(A8="","",IFERROR(INDEX(Resumen!$B:$B,MATCH(A8,Resumen!$A:$A,0)),"¿Código?")) | C8: =IF(A8="","",IFERROR(INDEX(Resumen!$C:$C,MATCH(A8,Resumen!$A:$A,0)),"")) | D8: Zapatas Z1 · eje A | E8: 4 | F8: 2 | G8: 2 | I8: =IF(OR(A8="",COUNT(E8:H8)=0),"",ROUND(PRODUCT(E8:H8),3)) | J8: =IF(A8="","",COUNT(F8:H8)) | K8: =IF(A8="","",IF(J8=IF(C8="m3",3,IF(C8="m2",2,IF(C8="m",1,0))),"OK","Revisar dimensiones"))
A9: 02.01 | B9: =IF(A9="","",IFERROR(INDEX(Resumen!$B:$B,MATCH(A9,Resumen!$A:$A,0)),"¿Código?")) | C9: =IF(A9="","",IFERROR(INDEX(Resumen!$C:$C,MATCH(A9,Resumen!$A:$A,0)),"")) | D9: Zapatas Z2 · eje B | E9: 4 | F9: 2.4 | G9: 2.4 | I9: =IF(OR(A9="",COUNT(E9:H9)=0),"",ROUND(PRODUCT(E9:H9),3)) | J9: =IF(A9="","",COUNT(F9:H9)) | K9: =IF(A9="","",IF(J9=IF(C9="m3",3,IF(C9="m2",2,IF(C9="m",1,0))),"OK","Revisar dimensiones"))
A10: 02.01 | B10: =IF(A10="","",IFERROR(INDEX(Resumen!$B:$B,MATCH(A10,Resumen!$A:$A,0)),"¿Código?")) | C10: =IF(A10="","",IFERROR(INDEX(Resumen!$C:$C,MATCH(A10,Resumen!$A:$A,0)),"")) | D10: Zanja riostra perimetral | E10: 1 | F10: 24 | G10: 0.6 | I10: =IF(OR(A10="",COUNT(E10:H10)=0),"",ROUND(PRODUCT(E10:H10),3)) | J10: =IF(A10="","",COUNT(F10:H10)) | K10: =IF(A10="","",IF(J10=IF(C10="m3",3,IF(C10="m2",2,IF(C10="m",1,0))),"OK","Revisar dimensiones"))
A11: 02.02 | B11: =IF(A11="","",IFERROR(INDEX(Resumen!$B:$B,MATCH(A11,Resumen!$A:$A,0)),"¿Código?")) | C11: =IF(A11="","",IFERROR(INDEX(Resumen!$C:$C,MATCH(A11,Resumen!$A:$A,0)),"")) | D11: Zapatas Z1 · eje A | E11: 4 | F11: 2 | G11: 2 | H11: 0.9 | I11: =IF(OR(A11="",COUNT(E11:H11)=0),"",ROUND(PRODUCT(E11:H11),3)) | J11: =IF(A11="","",COUNT(F11:H11)) | K11: =IF(A11="","",IF(J11=IF(C11="m3",3,IF(C11="m2",2,IF(C11="m",1,0))),"OK","Revisar dimensiones"))
A12: 02.02 | B12: =IF(A12="","",IFERROR(INDEX(Resumen!$B:$B,MATCH(A12,Resumen!$A:$A,0)),"¿Código?")) | C12: =IF(A12="","",IFERROR(INDEX(Resumen!$C:$C,MATCH(A12,Resumen!$A:$A,0)),"")) | D12: Zapatas Z2 · eje B | E12: 4 | F12: 2.4 | G12: 2.4 | H12: 1 | I12: =IF(OR(A12="",COUNT(E12:H12)=0),"",ROUND(PRODUCT(E12:H12),3)) | J12: =IF(A12="","",COUNT(F12:H12)) | K12: =IF(A12="","",IF(J12=IF(C12="m3",3,IF(C12="m2",2,IF(C12="m",1,0))),"OK","Revisar dimensiones"))
A13: 02.02 | B13: =IF(A13="","",IFERROR(INDEX(Resumen!$B:$B,MATCH(A13,Resumen!$A:$A,0)),"¿Código?")) | C13: =IF(A13="","",IFERROR(INDEX(Resumen!$C:$C,MATCH(A13,Resumen!$A:$A,0)),"")) | D13: Riostra perimetral | E13: 1 | F13: 24 | G13: 0.6 | H13: 0.7 | I13: =IF(OR(A13="",COUNT(E13:H13)=0),"",ROUND(PRODUCT(E13:H13),3)) | J13: =IF(A13="","",COUNT(F13:H13)) | K13: =IF(A13="","",IF(J13=IF(C13="m3",3,IF(C13="m2",2,IF(C13="m",1,0))),"OK","Revisar dimensiones"))
A14: 03.01 | B14: =IF(A14="","",IFERROR(INDEX(Resumen!$B:$B,MATCH(A14,Resumen!$A:$A,0)),"¿Código?")) | C14: =IF(A14="","",IFERROR(INDEX(Resumen!$C:$C,MATCH(A14,Resumen!$A:$A,0)),"")) | D14: Fachada norte | E14: 1 | F14: 18 | H14: 3 | I14: =IF(OR(A14="",COUNT(E14:H14)=0),"",ROUND(PRODUCT(E14:H14),3)) | J14: =IF(A14="","",COUNT(F14:H14)) | K14: =IF(A14="","",IF(J14=IF(C14="m3",3,IF(C14="m2",2,IF(C14="m",1,0))),"OK","Revisar dimensiones"))
A15: 03.01 | B15: =IF(A15="","",IFERROR(INDEX(Resumen!$B:$B,MATCH(A15,Resumen!$A:$A,0)),"¿Código?")) | C15: =IF(A15="","",IFERROR(INDEX(Resumen!$C:$C,MATCH(A15,Resumen!$A:$A,0)),"")) | D15: Fachada sur | E15: 1 | F15: 18 | H15: 3 | I15: =IF(OR(A15="",COUNT(E15:H15)=0),"",ROUND(PRODUCT(E15:H15),3)) | J15: =IF(A15="","",COUNT(F15:H15)) | K15: =IF(A15="","",IF(J15=IF(C15="m3",3,IF(C15="m2",2,IF(C15="m",1,0))),"OK","Revisar dimensiones"))
A16: 03.01 | B16: =IF(A16="","",IFERROR(INDEX(Resumen!$B:$B,MATCH(A16,Resumen!$A:$A,0)),"¿Código?")) | C16: =IF(A16="","",IFERROR(INDEX(Resumen!$C:$C,MATCH(A16,Resumen!$A:$A,0)),"")) | D16: A deducir: ventanas 1,20 × 1,50 | E16: -6 | F16: 1.2 | H16: 1.5 | I16: =IF(OR(A16="",COUNT(E16:H16)=0),"",ROUND(PRODUCT(E16:H16),3)) | J16: =IF(A16="","",COUNT(F16:H16)) | K16: =IF(A16="","",IF(J16=IF(C16="m3",3,IF(C16="m2",2,IF(C16="m",1,0))),"OK","Revisar dimensiones"))
A17: 03.01 | B17: =IF(A17="","",IFERROR(INDEX(Resumen!$B:$B,MATCH(A17,Resumen!$A:$A,0)),"¿Código?")) | C17: =IF(A17="","",IFERROR(INDEX(Resumen!$C:$C,MATCH(A17,Resumen!$A:$A,0)),"")) | D17: A deducir: puerta 0,90 × 2,10 | E17: -1 | F17: 0.9 | H17: 2.1 | I17: =IF(OR(A17="",COUNT(E17:H17)=0),"",ROUND(PRODUCT(E17:H17),3)) | J17: =IF(A17="","",COUNT(F17:H17)) | K17: =IF(A17="","",IF(J17=IF(C17="m3",3,IF(C17="m2",2,IF(C17="m",1,0))),"OK","Revisar dimensiones"))
A18: 04.01 | B18: =IF(A18="","",IFERROR(INDEX(Resumen!$B:$B,MATCH(A18,Resumen!$A:$A,0)),"¿Código?")) | C18: =IF(A18="","",IFERROR(INDEX(Resumen!$C:$C,MATCH(A18,Resumen!$A:$A,0)),"")) | D18: Solera planta baja | E18: 1 | F18: 18 | G18: 10 | I18: =IF(OR(A18="",COUNT(E18:H18)=0),"",ROUND(PRODUCT(E18:H18),3)) | J18: =IF(A18="","",COUNT(F18:H18)) | K18: =IF(A18="","",IF(J18=IF(C18="m3",3,IF(C18="m2",2,IF(C18="m",1,0))),"OK","Revisar dimensiones"))
B19: =IF(A19="","",IFERROR(INDEX(Resumen!$B:$B,MATCH(A19,Resumen!$A:$A,0)),"¿Código?")) | C19: =IF(A19="","",IFERROR(INDEX(Resumen!$C:$C,MATCH(A19,Resumen!$A:$A,0)),"")) | I19: =IF(OR(A19="",COUNT(E19:H19)=0),"",ROUND(PRODUCT(E19:H19),3)) | J19: =IF(A19="","",COUNT(F19:H19)) | K19: =IF(A19="","",IF(J19=IF(C19="m3",3,IF(C19="m2",2,IF(C19="m",1,0))),"OK","Revisar dimensiones"))
B20: =IF(A20="","",IFERROR(INDEX(Resumen!$B:$B,MATCH(A20,Resumen!$A:$A,0)),"¿Código?")) | C20: =IF(A20="","",IFERROR(INDEX(Resumen!$C:$C,MATCH(A20,Resumen!$A:$A,0)),"")) | I20: =IF(OR(A20="",COUNT(E20:H20)=0),"",ROUND(PRODUCT(E20:H20),3)) | J20: =IF(A20="","",COUNT(F20:H20)) | K20: =IF(A20="","",IF(J20=IF(C20="m3",3,IF(C20="m2",2,IF(C20="m",1,0))),"OK","Revisar dimensiones"))
B21: =IF(A21="","",IFERROR(INDEX(Resumen!$B:$B,MATCH(A21,Resumen!$A:$A,0)),"¿Código?")) | C21: =IF(A21="","",IFERROR(INDEX(Resumen!$C:$C,MATCH(A21,Resumen!$A:$A,0)),"")) | I21: =IF(OR(A21="",COUNT(E21:H21)=0),"",ROUND(PRODUCT(E21:H21),3)) | J21: =IF(A21="","",COUNT(F21:H21)) | K21: =IF(A21="","",IF(J21=IF(C21="m3",3,IF(C21="m2",2,IF(C21="m",1,0))),"OK","Revisar dimensiones"))
B22: =IF(A22="","",IFERROR(INDEX(Resumen!$B:$B,MATCH(A22,Resumen!$A:$A,0)),"¿Código?")) | C22: =IF(A22="","",IFERROR(INDEX(Resumen!$C:$C,MATCH(A22,Resumen!$A:$A,0)),"")) | I22: =IF(OR(A22="",COUNT(E22:H22)=0),"",ROUND(PRODUCT(E22:H22),3)) | J22: =IF(A22="","",COUNT(F22:H22)) | K22: =IF(A22="","",IF(J22=IF(C22="m3",3,IF(C22="m2",2,IF(C22="m",1,0))),"OK","Revisar dimensiones"))
B23: =IF(A23="","",IFERROR(INDEX(Resumen!$B:$B,MATCH(A23,Resumen!$A:$A,0)),"¿Código?")) | C23: =IF(A23="","",IFERROR(INDEX(Resumen!$C:$C,MATCH(A23,Resumen!$A:$A,0)),"")) | I23: =IF(OR(A23="",COUNT(E23:H23)=0),"",ROUND(PRODUCT(E23:H23),3)) | J23: =IF(A23="","",COUNT(F23:H23)) | K23: =IF(A23="","",IF(J23=IF(C23="m3",3,IF(C23="m2",2,IF(C23="m",1,0))),"OK","Revisar dimensiones"))
B24: =IF(A24="","",IFERROR(INDEX(Resumen!$B:$B,MATCH(A24,Resumen!$A:$A,0)),"¿Código?")) | C24: =IF(A24="","",IFERROR(INDEX(Resumen!$C:$C,MATCH(A24,Resumen!$A:$A,0)),"")) | I24: =IF(OR(A24="",COUNT(E24:H24)=0),"",ROUND(PRODUCT(E24:H24),3)) | J24: =IF(A24="","",COUNT(F24:H24)) | K24: =IF(A24="","",IF(J24=IF(C24="m3",3,IF(C24="m2",2,IF(C24="m",1,0))),"OK","Revisar dimensiones"))
B25: =IF(A25="","",IFERROR(INDEX(Resumen!$B:$B,MATCH(A25,Resumen!$A:$A,0)),"¿Código?")) | C25: =IF(A25="","",IFERROR(INDEX(Resumen!$C:$C,MATCH(A25,Resumen!$A:$A,0)),"")) | I25: =IF(OR(A25="",COUNT(E25:H25)=0),"",ROUND(PRODUCT(E25:H25),3)) | J25: =IF(A25="","",COUNT(F25:H25)) | K25: =IF(A25="","",IF(J25=IF(C25="m3",3,IF(C25="m2",2,IF(C25="m",1,0))),"OK","Revisar dimensiones"))
B26: =IF(A26="","",IFERROR(INDEX(Resumen!$B:$B,MATCH(A26,Resumen!$A:$A,0)),"¿Código?")) | C26: =IF(A26="","",IFERROR(INDEX(Resumen!$C:$C,MATCH(A26,Resumen!$A:$A,0)),"")) | I26: =IF(OR(A26="",COUNT(E26:H26)=0),"",ROUND(PRODUCT(E26:H26),3)) | J26: =IF(A26="","",COUNT(F26:H26)) | K26: =IF(A26="","",IF(J26=IF(C26="m3",3,IF(C26="m2",2,IF(C26="m",1,0))),"OK","Revisar dimensiones"))
B27: =IF(A27="","",IFERROR(INDEX(Resumen!$B:$B,MATCH(A27,Resumen!$A:$A,0)),"¿Código?")) | C27: =IF(A27="","",IFERROR(INDEX(Resumen!$C:$C,MATCH(A27,Resumen!$A:$A,0)),"")) | I27: =IF(OR(A27="",COUNT(E27:H27)=0),"",ROUND(PRODUCT(E27:H27),3)) | J27: =IF(A27="","",COUNT(F27:H27)) | K27: =IF(A27="","",IF(J27=IF(C27="m3",3,IF(C27="m2",2,IF(C27="m",1,0))),"OK","Revisar dimensiones"))
B28: =IF(A28="","",IFERROR(INDEX(Resumen!$B:$B,MATCH(A28,Resumen!$A:$A,0)),"¿Código?")) | C28: =IF(A28="","",IFERROR(INDEX(Resumen!$C:$C,MATCH(A28,Resumen!$A:$A,0)),"")) | I28: =IF(OR(A28="",COUNT(E28:H28)=0),"",ROUND(PRODUCT(E28:H28),3)) | J28: =IF(A28="","",COUNT(F28:H28)) | K28: =IF(A28="","",IF(J28=IF(C28="m3",3,IF(C28="m2",2,IF(C28="m",1,0))),"OK","Revisar dimensiones"))
B29: =IF(A29="","",IFERROR(INDEX(Resumen!$B:$B,MATCH(A29,Resumen!$A:$A,0)),"¿Código?")) | C29: =IF(A29="","",IFERROR(INDEX(Resumen!$C:$C,MATCH(A29,Resumen!$A:$A,0)),"")) | I29: =IF(OR(A29="",COUNT(E29:H29)=0),"",ROUND(PRODUCT(E29:H29),3)) | J29: =IF(A29="","",COUNT(F29:H29)) | K29: =IF(A29="","",IF(J29=IF(C29="m3",3,IF(C29="m2",2,IF(C29="m",1,0))),"OK","Revisar dimensiones"))
B30: =IF(A30="","",IFERROR(INDEX(Resumen!$B:$B,MATCH(A30,Resumen!$A:$A,0)),"¿Código?")) | C30: =IF(A30="","",IFERROR(INDEX(Resumen!$C:$C,MATCH(A30,Resumen!$A:$A,0)),"")) | I30: =IF(OR(A30="",COUNT(E30:H30)=0),"",ROUND(PRODUCT(E30:H30),3)) | J30: =IF(A30="","",COUNT(F30:H30)) | K30: =IF(A30="","",IF(J30=IF(C30="m3",3,IF(C30="m2",2,IF(C30="m",1,0))),"OK","Revisar dimensiones"))
... B64: =IF(A64="","",IFERROR(INDEX(Resumen!$B:$B,MATCH(A64,Resumen!$A:$A,0)),"¿Código?")) | C64: =IF(A64="","",IFERROR(INDEX(Resumen!$C:$C,MATCH(A64,Resumen!$A:$A,0)),"")) | I64: =IF(OR(A64="",COUNT(E64:H64)=0),"",ROUND(PRODUCT(E64:H64),3)) | J64: =IF(A64="","",COUNT(F64:H64)) | K64: =IF(A64="","",IF(J64=IF(C64="m3",3,IF(C64="m2",2,IF(C64="m",1,0))),"OK","Revisar dimensiones"))

Sheet Resumen
A1: Resumen de mediciones y presupuesto · Obra ejemplo
A2: Beelance · plantilla de regalo del artículo "Mediciones de obra en Excel sin errores". Celdas azules = datos que introduces.
A4: Código | B4: Descripción de la partida | C4: Ud | D4: Medición | E4: Precio (€/ud) | F4: Importe (€) | G4: Rendimiento (ud/día) | H4: Días de trabajo (1 frente) | I4: Control
A5: 01.01 | B5: Excavación de zanjas y pozos de cimentación | C5: m3 | D5: =SUMIF(Mediciones!$A:$A,A5,Mediciones!$I:$I) | E5: 18.5 | F5: =ROUND(D5*E5,2) | G5: 40 | H5: =IF(G5>0,ROUNDUP(D5/G5,0),"") | I5: =IF(COUNTIFS(Mediciones!$A:$A,A5,Mediciones!$K:$K,"Revisar*")>0,"Revisar líneas","OK")
A6: 02.01 | B6: Hormigón de limpieza HL-150, e=10 cm | C6: m2 | D6: =SUMIF(Mediciones!$A:$A,A6,Mediciones!$I:$I) | E6: 9.8 | F6: =ROUND(D6*E6,2) | G6: 120 | H6: =IF(G6>0,ROUNDUP(D6/G6,0),"") | I6: =IF(COUNTIFS(Mediciones!$A:$A,A6,Mediciones!$K:$K,"Revisar*")>0,"Revisar líneas","OK")
A7: 02.02 | B7: Hormigón HA-25 en zapatas y riostras | C7: m3 | D7: =SUMIF(Mediciones!$A:$A,A7,Mediciones!$I:$I) | E7: 112 | F7: =ROUND(D7*E7,2) | G7: 18 | H7: =IF(G7>0,ROUNDUP(D7/G7,0),"") | I7: =IF(COUNTIFS(Mediciones!$A:$A,A7,Mediciones!$K:$K,"Revisar*")>0,"Revisar líneas","OK")
A8: 03.01 | B8: Fábrica de ladrillo perforado 1/2 pie | C8: m2 | D8: =SUMIF(Mediciones!$A:$A,A8,Mediciones!$I:$I) | E8: 32 | F8: =ROUND(D8*E8,2) | G8: 14 | H8: =IF(G8>0,ROUNDUP(D8/G8,0),"") | I8: =IF(COUNTIFS(Mediciones!$A:$A,A8,Mediciones!$K:$K,"Revisar*")>0,"Revisar líneas","OK")
A9: 04.01 | B9: Solera de hormigón HA-25, e=15 cm | C9: m2 | D9: =SUMIF(Mediciones!$A:$A,A9,Mediciones!$I:$I) | E9: 21.4 | F9: =ROUND(D9*E9,2) | G9: 90 | H9: =IF(G9>0,ROUNDUP(D9/G9,0),"") | I9: =IF(COUNTIFS(Mediciones!$A:$A,A9,Mediciones!$K:$K,"Revisar*")>0,"Revisar líneas","OK")
B10: TOTAL PRESUPUESTO DE EJECUCIÓN MATERIAL | F10: =SUM(F5:F9) | H10: =SUM(H5:H9)
A12: Nota: precios y rendimientos de ejemplo, solo orientativos. Para 3.474 partidas con rendimientos, cuadrillas y equipos reales, consulta el Time & Resource Estimator en beelanceshop.com.
